BEGIN:VCALENDAR
VERSION:2.0
PRODID:-//Ibracon - ECPv6.15.20//NONSGML v1.0//EN
CALSCALE:GREGORIAN
METHOD:PUBLISH
X-WR-CALNAME:Ibracon
X-ORIGINAL-URL:https://ambienteibracon.com.br
X-WR-CALDESC:Eventos para Ibracon
REFRESH-INTERVAL;VALUE=DURATION:PT1H
X-Robots-Tag:noindex
X-PUBLISHED-TTL:PT1H
BEGIN:VTIMEZONE
TZID:America/Sao_Paulo
BEGIN:STANDARD
TZOFFSETFROM:-0300
TZOFFSETTO:-0300
TZNAME:-03
DTSTART:20220101T000000
END:STANDARD
END:VTIMEZONE
BEGIN:VEVENT
DTSTART;TZID=America/Sao_Paulo:20230523T080000
DTEND;TZID=America/Sao_Paulo:20230523T170000
DTSTAMP:20260419T091336
CREATED:20230519T194836Z
LAST-MODIFIED:20230519T195902Z
UID:1898-1684828800-1684861200@ambienteibracon.com.br
SUMMARY:Validação do novo Portal
DESCRIPTION:Validação por área do novo portal\, com prazo de 23/05/2023 \n 
URL:https://ambienteibracon.com.br/evento/validacao-do-novo-portal/
LOCATION:Teams\, Link\, SP\, SP\, 4398743897\, Brasil
CATEGORIES:Bate papo,Cursos
ATTACH;FMTTYPE=image/jpeg:https://ambienteibracon.com.br/wp-content/uploads/2023/05/quero-so-ver_1-1.jpg
END:VEVENT
END:VCALENDAR