BEGIN:VCALENDAR
VERSION:2.0
PRODID:-//Ibracon - ECPv6.15.20//NONSGML v1.0//EN
CALSCALE:GREGORIAN
METHOD:PUBLISH
X-ORIGINAL-URL:https://ambienteibracon.com.br
X-WR-CALDESC:Eventos para Ibracon
REFRESH-INTERVAL;VALUE=DURATION:PT1H
X-Robots-Tag:noindex
X-PUBLISHED-TTL:PT1H
BEGIN:VTIMEZONE
TZID:America/Sao_Paulo
BEGIN:STANDARD
TZOFFSETFROM:-0300
TZOFFSETTO:-0300
TZNAME:-03
DTSTART:20220101T000000
END:STANDARD
END:VTIMEZONE
BEGIN:VEVENT
DTSTART;TZID=America/Sao_Paulo:20230516T170000
DTEND;TZID=America/Sao_Paulo:20230516T180000
DTSTAMP:20260419T091406
CREATED:20230616T205526Z
LAST-MODIFIED:20230616T210421Z
UID:4113-1684256400-1684260000@ambienteibracon.com.br
SUMMARY:Reunião - GT de Previdência
DESCRIPTION:
URL:https://ambienteibracon.com.br/evento/reuniao-gt-de-previdencia-10/
LOCATION:Teams\, Link\, SP\, SP\, 4398743897\, Brasil
CATEGORIES:Área Técnica
END:VEVENT
END:VCALENDAR